BEGIN:VCALENDAR
VERSION:2.0
PRODID:-//Tukios.com/
BEGIN:VEVENT
UID:31d7f455-f3ae-4b41-bde7-ce6be23cd8bc@www.robertsblue.com
DTSTAMP:20260423T225604Z
DTSTART:20260428T003000Z
DTEND:20260428T013000Z
SUMMARY:Visitation
DESCRIPTION:
URL:https://www.robertsblue.com/obituaries/alice-bechtel
LOCATION:St. Joseph Catholic Church Parish Hall 307 Iowa Street  Olpe KS 
	66865
GEO:38.2630343;-96.1665242
END:VEVENT
END:VCALENDAR