BEGIN:VCALENDAR
VERSION:2.0
PRODID:-//Tukios.com/
BEGIN:VEVENT
UID:906b229b-4827-43c1-a1d5-093bb5251e83@www.robertsblue.com
DTSTAMP:20260423T225850Z
DTSTART:20260428T000000Z
DTEND:20260428T003000Z
SUMMARY:Rosary
DESCRIPTION:
URL:https://www.robertsblue.com/obituaries/alice-bechtel
LOCATION: 306 Iowa Street  Olpe KS 66865
GEO:38.2632687;-96.1657286
END:VEVENT
END:VCALENDAR