BEGIN:VCALENDAR
VERSION:2.0
PRODID:-//Tukios.com/
BEGIN:VEVENT
UID:bd4e711e-0a62-453b-b9fc-5cbd944b05ed@www.robertsblue.com
DTSTAMP:20260423T225512Z
DTSTART:20260428T150000Z
DTEND:20260428T160000Z
SUMMARY:Mass
DESCRIPTION:
URL:https://www.robertsblue.com/obituaries/alice-bechtel
LOCATION: 306 Iowa Street  Olpe KS 66865
GEO:38.2632687;-96.1657286
END:VEVENT
END:VCALENDAR