BEGIN:VCALENDAR
VERSION:2.0
PRODID:-//Tukios.com/
BEGIN:VEVENT
UID:b1c62587-1c8d-4770-ae18-5ba62fafe606@www.robertsblue.com
DTSTAMP:20260424T064739Z
DTSTART:20260509T183000Z
DTEND:20260509T193000Z
SUMMARY:Memorial Service
DESCRIPTION:
URL:https://www.robertsblue.com/obituaries/john-harding
LOCATION: 1702 West 15th Avenue  Emporia KS 66801
GEO:38.4164119;-96.2015242
END:VEVENT
END:VCALENDAR