BEGIN:VCALENDAR
VERSION:2.0
PRODID:-//Tukios.com/
BEGIN:VEVENT
UID:4b9fc67e-9794-4344-83d5-9e66b62d2970@www.robertsblue.com
DTSTAMP:20260420T153855Z
DTSTART:20260423T143000Z
DTEND:20260423T153000Z
SUMMARY:Visitation
DESCRIPTION:
URL:https://www.robertsblue.com/obituaries/larry-birk
LOCATION:Messiah Lutheran Church 1101 Neosho Street  Emporia KS 66801
GEO:38.411327;-96.1869248
END:VEVENT
END:VCALENDAR