BEGIN:VCALENDAR
VERSION:2.0
PRODID:-//Tukios.com/
BEGIN:VEVENT
UID:68cdeb41-8bac-4ec2-8139-d4d52cf216ee@www.robertsblue.com
DTSTAMP:20260420T154048Z
DTSTART:20260423T153000Z
DTEND:20260423T163000Z
SUMMARY:Funeral Service
DESCRIPTION:
URL:https://www.robertsblue.com/obituaries/larry-birk
LOCATION:Messiah Lutheran Church 1101 Neosho Street  Emporia KS 66801
GEO:38.411327;-96.1869248
END:VEVENT
END:VCALENDAR