BEGIN:VCALENDAR
VERSION:2.0
PRODID:-//Tukios.com/
BEGIN:VEVENT
UID:febcb8fb-5979-45c4-971d-23a968fe6fb5@www.robertsblue.com
DTSTAMP:20260420T214241Z
DTSTART:20260424T150000Z
DTEND:20260424T160000Z
SUMMARY:Visitation
DESCRIPTION:
URL:https://www.robertsblue.com/obituaries/marvin-emley
LOCATION:Roberts-Blue-Barnett Funeral Home 605 State St  Emporia KS 66801
GEO:38.4053439;-96.1856779
END:VEVENT
END:VCALENDAR