BEGIN:VCALENDAR
VERSION:2.0
PRODID:-//Tukios.com/
BEGIN:VEVENT
UID:02458d2b-d4c0-4826-961c-9b71a70f523d@www.robertsblue.com
DTSTAMP:20260420T214332Z
DTSTART:20260424T160000Z
DTEND:20260424T170000Z
SUMMARY:Funeral Service
DESCRIPTION:
URL:https://www.robertsblue.com/obituaries/marvin-emley
LOCATION:Roberts-Blue-Barnett Funeral Home 605 State St  Emporia KS 66801
GEO:38.4053439;-96.1856779
END:VEVENT
END:VCALENDAR